BEGIN:VCALENDAR
VERSION:2.0
PRODID:-//InvisionCommunity Events 4.7.23//EN
METHOD:PUBLISH
CALSCALE:GREGORIAN
REFRESH-INTERVAL:PT15M
X-PUBLISHED-TTL:PT15M
X-WR-CALNAME:What&#039;s On In Bedlington?
NAME:What&#039;s On In Bedlington?
BEGIN:VTIMEZONE
TZID:Europe/London
TZURL:http://tzurl.org/zoneinfo/Europe/London
X-LIC-LOCATION:Europe/London
BEGIN:DAYLIGHT
TZOFFSETFROM:+0000
TZOFFSETTO:+0100
TZNAME:BST
DTSTART:20110327T020000Z
RRULE:FREQ=YEARLY;BYMONTH=3;BYDAY=-1SU
END:DAYLIGHT
BEGIN:STANDARD
TZOFFSETFROM:+0100
TZOFFSETTO:+0000
TZNAME:GMT
DTSTART:20111030T020000Z
RRULE:FREQ=YEARLY;BYMONTH=10;BYDAY=-1SU
END:STANDARD
END:VTIMEZONE
BEGIN:VEVENT
SUMMARY:Bedlington Heritage Fair
DTSTAMP:20110920T125432Z
SEQUENCE:0
UID:104-1-04666e4d231bedf8aed44579027327af@bedlington.uk
ORGANIZER;CN="Andy Millne":info@bedlington.uk
DESCRIPTION:\nBedlington Heritage Fair taking place Saturday 10th Septem
	ber (10am-3:30pm) in Bedlington Market Place and other venues as advertise
	d. The Fair is being run as part of the Bedlington THI. It coincides with 
	events and activity by St Cuthbert’s Church...\n
DTSTART;VALUE=DATE:20110910
END:VEVENT
END:VCALENDAR
