BEGIN:VCALENDAR
VERSION:2.0
PRODID:-//InvisionCommunity Events 4.7.23//EN
METHOD:PUBLISH
CALSCALE:GREGORIAN
REFRESH-INTERVAL:PT15M
X-PUBLISHED-TTL:PT15M
X-WR-CALNAME:What&#039;s On In Bedlington?
NAME:What&#039;s On In Bedlington?
BEGIN:VTIMEZONE
TZID:Europe/London
TZURL:http://tzurl.org/zoneinfo/Europe/London
X-LIC-LOCATION:Europe/London
BEGIN:DAYLIGHT
TZOFFSETFROM:+0000
TZOFFSETTO:+0100
TZNAME:BST
DTSTART:20120325T020000Z
RRULE:FREQ=YEARLY;BYMONTH=3;BYDAY=-1SU
END:DAYLIGHT
BEGIN:STANDARD
TZOFFSETFROM:+0100
TZOFFSETTO:+0000
TZNAME:GMT
DTSTART:20121028T020000Z
RRULE:FREQ=YEARLY;BYMONTH=10;BYDAY=-1SU
END:STANDARD
END:VTIMEZONE
BEGIN:VEVENT
SUMMARY:Buskers Night @ Black Bull
DTSTAMP:20120201T173828Z
SEQUENCE:0
UID:108-1-04666e4d231bedf8aed44579027327af@bedlington.uk
ORGANIZER;CN="Black Bull Bedlington":info@bedlington.uk
DESCRIPTION:\nEvery Tuesday night is Buskers night. If you can play\, si
	ng\, tell a story or you are a poet\, come along and join us.\n
DTSTART:20120214T190000Z
RRULE:FREQ=weekly;INTERVAL=1;UNTIL=20120214T230000Z
END:VEVENT
END:VCALENDAR
