BEGIN:VCALENDAR
VERSION:2.0
PRODID:-//InvisionCommunity Events 4.7.23//EN
METHOD:PUBLISH
CALSCALE:GREGORIAN
REFRESH-INTERVAL:PT15M
X-PUBLISHED-TTL:PT15M
X-WR-CALNAME:What&#039;s On In Bedlington?
NAME:What&#039;s On In Bedlington?
BEGIN:VTIMEZONE
TZID:Europe/London
TZURL:http://tzurl.org/zoneinfo/Europe/London
X-LIC-LOCATION:Europe/London
BEGIN:DAYLIGHT
TZOFFSETFROM:+0000
TZOFFSETTO:+0100
TZNAME:BST
DTSTART:20160327T020000Z
RRULE:FREQ=YEARLY;BYMONTH=3;BYDAY=-1SU
END:DAYLIGHT
BEGIN:STANDARD
TZOFFSETFROM:+0100
TZOFFSETTO:+0000
TZNAME:GMT
DTSTART:20161030T020000Z
RRULE:FREQ=YEARLY;BYMONTH=10;BYDAY=-1SU
END:STANDARD
END:VTIMEZONE
BEGIN:VEVENT
SUMMARY:Clarty Kids
DTSTAMP:20160115T182006Z
SEQUENCE:0
UID:117-1-04666e4d231bedf8aed44579027327af@bedlington.uk
ORGANIZER;CN="Andy Millne":info@bedlington.uk
DESCRIPTION:\n\n	Clarty kids is designed for babies aged 4 months up to 
	children aged 5.\n\n\n	Clarty kids will run 1 Saturday per month within th
	e Bank Top Hotel at Bedlington from 10:30-11:30am\, we will kick of with a
	n exciting tale from a selected children's story book and the theme of the
	 Clarty play will be based around this\, with water\, bubbles\, paint\, sp
	aghetti\, jelly and much much more! Let your child explore their senses an
	d burn off some energy! There will also be toys and an arts and crafts tab
	le to make crafts based on today's story book.\n\n\n	What a way to spend a
	 Saturday morning making messy memories with your little ones! Book today 
	by emailing clartykidsne@gmail.com or calling 07880 352090\n\n\n	Don't wo
	rry.....you won't need to take your mucky pups home in a state\, we have w
	ash buckets with warm soapy water to give everyone a good scrub before lea
	ving!\n\n\n	*We recommend bringing a change of clothes\, towel and swim na
	ppy but not required!\n\n\n\n	£4. £2 for each additional sibling.\n\n
DTSTART:20160123T103000Z
DTEND:20160123T113000Z
END:VEVENT
END:VCALENDAR
