BEGIN:VCALENDAR
VERSION:2.0
PRODID:-//InvisionCommunity Events 4.7.23//EN
METHOD:PUBLISH
CALSCALE:GREGORIAN
REFRESH-INTERVAL:PT15M
X-PUBLISHED-TTL:PT15M
X-WR-CALNAME:What&#039;s On In Bedlington?
NAME:What&#039;s On In Bedlington?
BEGIN:VTIMEZONE
TZID:Europe/London
TZURL:http://tzurl.org/zoneinfo/Europe/London
X-LIC-LOCATION:Europe/London
BEGIN:DAYLIGHT
TZOFFSETFROM:+0000
TZOFFSETTO:+0100
TZNAME:BST
DTSTART:20160327T020000Z
RRULE:FREQ=YEARLY;BYMONTH=3;BYDAY=-1SU
END:DAYLIGHT
BEGIN:STANDARD
TZOFFSETFROM:+0100
TZOFFSETTO:+0000
TZNAME:GMT
DTSTART:20161030T020000Z
RRULE:FREQ=YEARLY;BYMONTH=10;BYDAY=-1SU
END:STANDARD
END:VTIMEZONE
BEGIN:VEVENT
SUMMARY:The Craft Hive Workshop
DTSTAMP:20160115T200604Z
SEQUENCE:0
UID:118-1-04666e4d231bedf8aed44579027327af@bedlington.uk
ORGANIZER;CN="Andy Millne":info@bedlington.uk
DESCRIPTION:\n\n	Come along to this exciting new Stix2/Woodware demo day
	 with Michelle Johnson and learn how to decorate your very own shopping ba
	gs\, organza jewellery bags\, t-shirts\, school bags\, pencil cases etc.\n
	\n\n	Learn lots of techniques using the new Stix2 with heat range of adhes
	ives.\n\n\n	Learn how to use the Woodware fabric ink pads\, fabric pens wi
	th stamps and stencils\, see how to make your own stamps using an existing
	 Stix2 product and die cut the stix2 with heat range and finish with foil.
	Take home a whole range of ideas and techniques for the stix2 with heat wi
	th adhesive range\, tips for colouring material!\n\n\n	No need to book.\n\
	n\n\n	We will have free tea and coffee for those who fancy popping in.\n\n
DTSTART:20160201T100000Z
DTEND:20160201T123000Z
END:VEVENT
END:VCALENDAR
