BEGIN:VCALENDAR
VERSION:2.0
PRODID:-//InvisionCommunity Events 4.7.23//EN
METHOD:PUBLISH
CALSCALE:GREGORIAN
REFRESH-INTERVAL:PT15M
X-PUBLISHED-TTL:PT15M
X-WR-CALNAME:What&#039;s On In Bedlington?
NAME:What&#039;s On In Bedlington?
BEGIN:VTIMEZONE
TZID:Europe/London
TZURL:http://tzurl.org/zoneinfo/Europe/London
X-LIC-LOCATION:Europe/London
BEGIN:DAYLIGHT
TZOFFSETFROM:+0000
TZOFFSETTO:+0100
TZNAME:BST
DTSTART:20160327T020000Z
RRULE:FREQ=YEARLY;BYMONTH=3;BYDAY=-1SU
END:DAYLIGHT
BEGIN:STANDARD
TZOFFSETFROM:+0100
TZOFFSETTO:+0000
TZNAME:GMT
DTSTART:20161030T020000Z
RRULE:FREQ=YEARLY;BYMONTH=10;BYDAY=-1SU
END:STANDARD
END:VTIMEZONE
BEGIN:VEVENT
SUMMARY:Ceilidh Night
DTSTAMP:20160115T204400Z
SEQUENCE:0
UID:119-1-04666e4d231bedf8aed44579027327af@bedlington.uk
ORGANIZER;CN="Andy Millne":info@bedlington.uk
DESCRIPTION:\n\n	Leonard Brown\, Scottish Accordion Champion and a membe
	r of the very popular Happy Cats\, is bringing his Ceilidh Band to Bedling
	ton.  They will be playing all the popular ceilidh dances which will suit
	 both novices and advanced dancers alike\, and Andy your caller\, will wal
	k you through each dance before it starts.\n\n\n	Bring your own food for y
	our table.\n\n\n	Tickets are £10 and are available at the box office or 
	online (small booking fee applies)\n\n
DTSTART:20160129T193000Z
DTEND:20160129T000000Z
END:VEVENT
END:VCALENDAR
