BEGIN:VCALENDAR
VERSION:2.0
PRODID:-//InvisionCommunity Events 4.7.23//EN
METHOD:PUBLISH
CALSCALE:GREGORIAN
REFRESH-INTERVAL:PT15M
X-PUBLISHED-TTL:PT15M
X-WR-CALNAME:What&#039;s On In Bedlington?
NAME:What&#039;s On In Bedlington?
BEGIN:VTIMEZONE
TZID:Europe/London
TZURL:http://tzurl.org/zoneinfo/Europe/London
X-LIC-LOCATION:Europe/London
BEGIN:DAYLIGHT
TZOFFSETFROM:+0000
TZOFFSETTO:+0100
TZNAME:BST
DTSTART:20170326T020000Z
RRULE:FREQ=YEARLY;BYMONTH=3;BYDAY=-1SU
END:DAYLIGHT
BEGIN:STANDARD
TZOFFSETFROM:+0100
TZOFFSETTO:+0000
TZNAME:GMT
DTSTART:20171029T020000Z
RRULE:FREQ=YEARLY;BYMONTH=10;BYDAY=-1SU
END:STANDARD
END:VTIMEZONE
BEGIN:VEVENT
SUMMARY:Westridge Class Reunion
DTSTAMP:20161206T185936Z
SEQUENCE:0
UID:125-1-04666e4d231bedf8aed44579027327af@bedlington.uk
ORGANIZER;CN="Malcolm G Allan":info@bedlington.uk
DESCRIPTION:\n\n	Hi it's been a long time since I attended Westridge Cou
	nty Secondary Modern School\, want to have a year renunion 1967/68 the lik
	es of Jimmy Watson\, Tom Miller\, Joe Lees\, Janet Common\, Peter Tate\, M
	ary Mathews \,Colin Ellis\,Harry Stapley\, Keith Bacon all of the x form a
	s it would be interesting to see what has become of us since we left schoo
	l so if we can arrange a Westridge Class Renunion in early July 2017.\n\n\
	n\n	If anybody reads this and knows anybody to contact so we can arrange t
	his Renunion I would appreciate this as we are no longer young anymore sou
	nds like a song\,finally is that John Fox ?Foxy who used to live on Meadow
	dale Estate  way back when.\n\n\n\n	Thanks.\n\n\n\n	Yours in the Spirit o
	f Co-operation\n\n\n\n	Malcolm G Allan.\n\n
DTSTART:20170706T180000Z
DTEND:20170706T210000Z
ATTENDEE;CN="Symptoms";CUTYPE=INDIVIDUAL;PARTSTAT=ACCEPTED:i
	nfo@bedlington.uk
END:VEVENT
END:VCALENDAR
