BEGIN:VCALENDAR
VERSION:2.0
PRODID:-//InvisionCommunity Events 4.7.23//EN
METHOD:PUBLISH
CALSCALE:GREGORIAN
REFRESH-INTERVAL:PT15M
X-PUBLISHED-TTL:PT15M
X-WR-CALNAME:What&#039;s On In Bedlington?
NAME:What&#039;s On In Bedlington?
BEGIN:VTIMEZONE
TZID:Europe/London
TZURL:http://tzurl.org/zoneinfo/Europe/London
X-LIC-LOCATION:Europe/London
BEGIN:DAYLIGHT
TZOFFSETFROM:+0000
TZOFFSETTO:+0100
TZNAME:BST
DTSTART:20170326T020000Z
RRULE:FREQ=YEARLY;BYMONTH=3;BYDAY=-1SU
END:DAYLIGHT
BEGIN:STANDARD
TZOFFSETFROM:+0100
TZOFFSETTO:+0000
TZNAME:GMT
DTSTART:20171029T020000Z
RRULE:FREQ=YEARLY;BYMONTH=10;BYDAY=-1SU
END:STANDARD
END:VTIMEZONE
BEGIN:VEVENT
SUMMARY:Relaxation Station Open Day
DTSTAMP:20170130T105137Z
SEQUENCE:0
UID:126-1-04666e4d231bedf8aed44579027327af@bedlington.uk
ORGANIZER;CN="Andy Millne":info@bedlington.uk
DESCRIPTION:\n\n	*FALL IN LOVE WITH YOU – YOU CAN’T POUR FROM AN EMP
	TY CUP*\n\n\n\n	*On February 11th 2017 from 11am to 3pm there is an open d
	ay at The Old Police Station for you to come and visit Sheila\, Brenda and
	 friends.*\n\n\n\n	Sheila and Brenda’s treatment rooms will be open for 
	you to have a look around and you can book 15-minute taster sessions for j
	ust £5. \n\n\n\n	We are also delighted to introduce you to Rachel who wo
	rks with Mizan Therapy\, a traditional reproductive healing. Rachel will b
	e using Brenda’s room on the weekends. \n\n\n\n	Our friends Jayne Caldw
	ell from New Wave New Mind will be starting the open day off with a talk a
	bout New Years Resolutions and Ruth from Hadaduennde Herbs will be droppin
	g in for a couple of hours so that we can sample some of her delicious ble
	nds of teas. \n\n\n\n	You can find out more about Sheila\, Rachel\, Brend
	a\, Jayne and Ruth below\, to book in for either the talk of taster sessio
	ns please contact the holistic therapist directly. We look forward to spen
	ding time with you and helping you to 'fall in love with you'. \n\n\n\n	*
	Sheila:*\n\n	NO HANDS (™) Massage is a dynamic new form of massage sweep
	ing across the world\, conceived and developed by Gerry Pyves after 20 yea
	rs of clinic testing. I look forward to supporting you in giving yourself 
	some time out to feel this deep\, nourishing\, energising and transforming
	 touch. \n\n\n\n	To book in your 15 minute taster for just £5 please con
	tact me on: 07713198335\n\n\n\n	*Brenda:*\n\n	Auoroa Orbs are meditation o
	rbs that contain flower\, crystal and minerals that help to shift energy b
	locks helping you to see which is the next step for you to take on your jo
	urney. Aurora Orbs has been a ten year journey for me and I have loved bei
	ng part of every step. This year I am launching the orbs globally and I lo
	ok forward to introducing them to you.\n\n\n\n	To book in your 15 minute t
	aster with the orbs for just £5 please contact me on: 07707 984 851\n\n\n
	\n	*Rachel:*\n\n	Mizan (pronounced like Milan) is an Arabic word that mean
	s balance. By using traditional reproductive healing techniques\, Mizan Th
	erapists seek to restore balance when life feels unbalanced – physically
	\, emotionally or spiritually.\n\n\n\n	Mizan uses traditional healing tech
	niques to address conditions involving reproductive organs\, the digestive
	 system and emotional health. These techniques are commonly used in India 
	and further east for optimising women’s health. It is a gentle\, externa
	l massage that brings healing to the womb space and optimum health and wel
	l-being to women on both physical and emotional levels.\n\n\n\n	Come and j
	oin me for a mini Mizan treatment where you will be warmly welcomed. \n\n
	\n\n	As part of the mini treatment I will talk to you a little more about 
	the wonderful benefits of Mizan and demonstrate the self-care routine\, wh
	ich plays a vital role in Mizan. To book your place\, please call me on: 0
	7572884555\n\n\n\n	*Jayne:**\n\n	Well you may be well into your new 'New Y
	ear's Resolutions' by now\, and you may even be doing OK - Well done!\n\n\
	n\n	But what is the difference between 31st December and 1st January?\n\n\
	n\n	Have you ever wondered why so many New Years Resolutions end up fallin
	g by the wayside?\n\n\n\n	If you'd like real help and understanding in bei
	ng more 'resolute' with your resolutions and getting ready for your best y
	ear yet\, letting 2017 be your year to finally fully shine\, come with me 
	for a brief journey into what really helps us with motivation and to be fu
	lly ourselves... and it's all in the emotions!\n\n\n\n	Oh and\, and this i
	s really important\, don't\, whatever you do....don't think of a pink elep
	hant!!!!!\n\n	(You thought of the pink elephant didn't you!) I look forwar
	d to meeting with you. I have ten spaces available for my talk\, tickets a
	re £5 each\, please contact me on 0798 454 5518 to book your ticket.\n\n\
	n\n	*Ruth:*\n\n	Ruth is a qualified herbalist\, she makes her own blends o
	f tea each is designed to suit different times of day\, as well as individ
	uals emotional and physical needs. To find out more about Ruth please visi
	t: www.hadaduendeherbs.co.uk\n\n\n\n	Thank you so much for reading this p
	ost\, we do hope to see you at the open day. x\n\n
DTSTART:20170211T110000Z
DTEND:20170211T150000Z
END:VEVENT
END:VCALENDAR
