BEGIN:VCALENDAR
VERSION:2.0
PRODID:-//InvisionCommunity Events 4.7.23//EN
METHOD:PUBLISH
CALSCALE:GREGORIAN
REFRESH-INTERVAL:PT15M
X-PUBLISHED-TTL:PT15M
X-WR-CALNAME:What&#039;s On In Bedlington?
NAME:What&#039;s On In Bedlington?
BEGIN:VTIMEZONE
TZID:Europe/London
TZURL:http://tzurl.org/zoneinfo/Europe/London
X-LIC-LOCATION:Europe/London
BEGIN:DAYLIGHT
TZOFFSETFROM:+0000
TZOFFSETTO:+0100
TZNAME:BST
DTSTART:20170326T020000Z
RRULE:FREQ=YEARLY;BYMONTH=3;BYDAY=-1SU
END:DAYLIGHT
BEGIN:STANDARD
TZOFFSETFROM:+0100
TZOFFSETTO:+0000
TZNAME:GMT
DTSTART:20171029T020000Z
RRULE:FREQ=YEARLY;BYMONTH=10;BYDAY=-1SU
END:STANDARD
END:VTIMEZONE
BEGIN:VEVENT
SUMMARY:4 Square Music
DTSTAMP:20170205T164239Z
SEQUENCE:0
UID:128-1-04666e4d231bedf8aed44579027327af@bedlington.uk
ORGANIZER;CN="Andy Millne":info@bedlington.uk
DESCRIPTION:\n	Ferocious folk foursome 4Square is winning fans from al
	l four corners of Europe and beyond with their fiery\, inventive and virtu
	osic brand of alternative folk.\n\n	4Square’s trademark show features th
	e spectacle of Nicola Lyons’s simultaneous fiddle playing and clog danci
	ng and virtuosic mandolin from Michael Giverin\, galvanised by the driving
	 sounds of Jim Molyneux’s piano and Dan Day’s percussion. The result i
	s an infusion of folk\, jazz\, Latin\, and any other musical style they fe
	el the inclination to absorb.  \n\n\n	By contrast\, 4Square will then sti
	r you with their harmonious and mellow singing described by Nigel Schofiel
	d of livingtradition.co.uk as “sublimely wistful.”\n\n\n	Tickets on sa
	le soon.\n
DTSTART:20170205T193000Z
DTEND:20170205T220000Z
END:VEVENT
END:VCALENDAR
