BEGIN:VCALENDAR
VERSION:2.0
PRODID:-//InvisionCommunity Events 4.7.23//EN
METHOD:PUBLISH
CALSCALE:GREGORIAN
REFRESH-INTERVAL:PT15M
X-PUBLISHED-TTL:PT15M
X-WR-CALNAME:What&#039;s On In Bedlington?
NAME:What&#039;s On In Bedlington?
BEGIN:VTIMEZONE
TZID:Europe/London
TZURL:http://tzurl.org/zoneinfo/Europe/London
X-LIC-LOCATION:Europe/London
BEGIN:DAYLIGHT
TZOFFSETFROM:+0000
TZOFFSETTO:+0100
TZNAME:BST
DTSTART:20170326T020000Z
RRULE:FREQ=YEARLY;BYMONTH=3;BYDAY=-1SU
END:DAYLIGHT
BEGIN:STANDARD
TZOFFSETFROM:+0100
TZOFFSETTO:+0000
TZNAME:GMT
DTSTART:20171029T020000Z
RRULE:FREQ=YEARLY;BYMONTH=10;BYDAY=-1SU
END:STANDARD
END:VTIMEZONE
BEGIN:VEVENT
SUMMARY:Rag Mama Rag
DTSTAMP:20170205T164549Z
SEQUENCE:0
UID:129-1-04666e4d231bedf8aed44579027327af@bedlington.uk
ORGANIZER;CN="Andy Millne":info@bedlington.uk
DESCRIPTION:\n	Back by popular demand!\n\n\n	Rag Mama Rag create an e
	xceptionally full and hard driving rhythmic sound which soon has audiences
	 feet tapping. Their repertoire is 20’s and 30’s Blues based\, but ext
	remely varied\, encompassing Mississippi Blues\, East Coast Ragtime sounds
	\, early White Country tunes\, Original Compositions\, and many other regi
	onal styles of the 20’s and 30’s period.\n\n\n	Tickets £15 available 
	from the Community Centre box office or book online here.\n
DTSTART:20170326T193000Z
DTEND:20170326T220000Z
END:VEVENT
END:VCALENDAR
