BEGIN:VCALENDAR
VERSION:2.0
PRODID:-//InvisionCommunity Events 4.7.23//EN
METHOD:PUBLISH
CALSCALE:GREGORIAN
REFRESH-INTERVAL:PT15M
X-PUBLISHED-TTL:PT15M
X-WR-CALNAME:What&#039;s On In Bedlington?
NAME:What&#039;s On In Bedlington?
BEGIN:VTIMEZONE
TZID:Europe/London
TZURL:http://tzurl.org/zoneinfo/Europe/London
X-LIC-LOCATION:Europe/London
BEGIN:DAYLIGHT
TZOFFSETFROM:+0000
TZOFFSETTO:+0100
TZNAME:BST
DTSTART:20170326T020000Z
RRULE:FREQ=YEARLY;BYMONTH=3;BYDAY=-1SU
END:DAYLIGHT
BEGIN:STANDARD
TZOFFSETFROM:+0100
TZOFFSETTO:+0000
TZNAME:GMT
DTSTART:20171029T020000Z
RRULE:FREQ=YEARLY;BYMONTH=10;BYDAY=-1SU
END:STANDARD
END:VTIMEZONE
BEGIN:VEVENT
SUMMARY:An evening with Howard Baker
DTSTAMP:20170205T165005Z
SEQUENCE:0
UID:131-1-04666e4d231bedf8aed44579027327af@bedlington.uk
ORGANIZER;CN="Andy Millne":info@bedlington.uk
DESCRIPTION:\n	Howard Baker is a professional entertainer and outstandi
	ng vocalist based in the North East and we are looking forward to welcomin
	g him back into the centre. He has an extraordinary talent for singing.  
	He covers rock\, swing\, Irish\, 60's &amp\; 70's to ballads.  He is trul
	y a thoroughbred in today's world of music.  His shows have something fo
	r everyone.   Howard has had three hit songs in Europe singing the blues
	\; he’s also a very accomplished writer with over 40 songs to his name.\
	n\n\n	Tickets on sale soon.\n
DTSTART:20170519T193000Z
DTEND:20170519T220000Z
END:VEVENT
END:VCALENDAR
