BEGIN:VCALENDAR
VERSION:2.0
PRODID:-//InvisionCommunity Events 4.7.23//EN
METHOD:PUBLISH
CALSCALE:GREGORIAN
REFRESH-INTERVAL:PT15M
X-PUBLISHED-TTL:PT15M
X-WR-CALNAME:What&#039;s On In Bedlington?
NAME:What&#039;s On In Bedlington?
BEGIN:VTIMEZONE
TZID:Europe/London
TZURL:http://tzurl.org/zoneinfo/Europe/London
X-LIC-LOCATION:Europe/London
BEGIN:DAYLIGHT
TZOFFSETFROM:+0000
TZOFFSETTO:+0100
TZNAME:BST
DTSTART:20170326T020000Z
RRULE:FREQ=YEARLY;BYMONTH=3;BYDAY=-1SU
END:DAYLIGHT
BEGIN:STANDARD
TZOFFSETFROM:+0100
TZOFFSETTO:+0000
TZNAME:GMT
DTSTART:20171029T020000Z
RRULE:FREQ=YEARLY;BYMONTH=10;BYDAY=-1SU
END:STANDARD
END:VTIMEZONE
BEGIN:VEVENT
SUMMARY:Share the Darkness
DTSTAMP:20170206T170941Z
SEQUENCE:0
UID:136-1-04666e4d231bedf8aed44579027327af@bedlington.uk
ORGANIZER;CN="Andy Millne":info@bedlington.uk
DESCRIPTION:\n\n	Share The Darkness play full on rollockin' Irish perfor
	mances with some modern folk and easy rock thrown in for good measure.\n\n
	\n\n	The band members are all professional musicians with over 130 years c
	ollective experience. It is this level of experience which the band feel 
	is a major factor in them being nominated \"Best Traditional Act 2016\"
	 in the Ubeat TV Awards at the O2 Academy in Newcastle.\n\n\n\n	What kind
	 of music do they play? - Think The Dubliners/Saw Doctors/Flogging Molly/ 
	Dropkick Murphy's along with influences from the likes of Lindisfarne\, R
	ichard Thompson and Christy Moore.\n\n\n\n	The band has been described as\
	, \"more Irish than a Dublin pub!\"\n\n\n\n	Performances tend to be upbea
	t with powerful driving rhythms. \n\n
DTSTART:20170311T211500Z
DTEND:20170311T230000Z
END:VEVENT
END:VCALENDAR
