BEGIN:VCALENDAR
VERSION:2.0
PRODID:-//InvisionCommunity Events 4.7.23//EN
METHOD:PUBLISH
CALSCALE:GREGORIAN
REFRESH-INTERVAL:PT15M
X-PUBLISHED-TTL:PT15M
X-WR-CALNAME:What&#039;s On In Bedlington?
NAME:What&#039;s On In Bedlington?
BEGIN:VTIMEZONE
TZID:Europe/London
TZURL:http://tzurl.org/zoneinfo/Europe/London
X-LIC-LOCATION:Europe/London
BEGIN:DAYLIGHT
TZOFFSETFROM:+0000
TZOFFSETTO:+0100
TZNAME:BST
DTSTART:20170326T020000Z
RRULE:FREQ=YEARLY;BYMONTH=3;BYDAY=-1SU
END:DAYLIGHT
BEGIN:STANDARD
TZOFFSETFROM:+0100
TZOFFSETTO:+0000
TZNAME:GMT
DTSTART:20171029T020000Z
RRULE:FREQ=YEARLY;BYMONTH=10;BYDAY=-1SU
END:STANDARD
END:VTIMEZONE
BEGIN:VEVENT
SUMMARY:Call off the Search
DTSTAMP:20170208T114500Z
SEQUENCE:0
UID:139-1-04666e4d231bedf8aed44579027327af@bedlington.uk
ORGANIZER;CN="Andy Millne":info@bedlington.uk
DESCRIPTION:\n\n	Over the last thirty years these guys have been part of
	 some of the best known acts on the North East band circuit. Following e
	arlier success with French Curves\, Ultimate Bowie Band and Trakk\, they 
	reformed in 2012 as Call Off The Search to embark on a new\, more person
	al project and play some of their favourite music - past and present - whi
	le still having some fun along the way.\n\n\n\n	Their years of experience 
	and skilled musicianship is clearly in evidence during live performanc
	es and always a pleasure to hear.\n\n\n\n	http://www.calloffthesearch.net/
	\n\n
DTSTART:20170416T203000Z
DTEND:20170416T230000Z
END:VEVENT
END:VCALENDAR
