BEGIN:VCALENDAR
VERSION:2.0
PRODID:-//InvisionCommunity Events 4.7.23//EN
METHOD:PUBLISH
CALSCALE:GREGORIAN
REFRESH-INTERVAL:PT15M
X-PUBLISHED-TTL:PT15M
X-WR-CALNAME:What&#039;s On In Bedlington?
NAME:What&#039;s On In Bedlington?
BEGIN:VTIMEZONE
TZID:Europe/London
TZURL:http://tzurl.org/zoneinfo/Europe/London
X-LIC-LOCATION:Europe/London
BEGIN:DAYLIGHT
TZOFFSETFROM:+0000
TZOFFSETTO:+0100
TZNAME:BST
DTSTART:20170326T020000Z
RRULE:FREQ=YEARLY;BYMONTH=3;BYDAY=-1SU
END:DAYLIGHT
BEGIN:STANDARD
TZOFFSETFROM:+0100
TZOFFSETTO:+0000
TZNAME:GMT
DTSTART:20171029T020000Z
RRULE:FREQ=YEARLY;BYMONTH=10;BYDAY=-1SU
END:STANDARD
END:VTIMEZONE
BEGIN:VEVENT
SUMMARY:North East Beer Festival @ The Red Lion
DTSTAMP:20170215T151205Z
SEQUENCE:0
UID:152-1-04666e4d231bedf8aed44579027327af@bedlington.uk
ORGANIZER;CN="Andy Millne":info@bedlington.uk
DESCRIPTION:\n\n	Showcasing local brewers like Allendale\, Big Lamp\, an
	d many more... The Red Lion are bringing you some wonderful beers to enj
	oy across 6 Wetherspoon Pubs.\n\n\n\n	A loyalty card scheme will also be r
	unning for a chance to win some fantastic prizes!\n\n\n\n	This 10 Day even
	t is taking place across 6 North East pubs\, and only features beers and b
	rewers from the region.\n\n\n\n	The 6 Wetherspoon pubs taking part are:\n\
	n\n\n	The Red Lion\, BedlingtonThe Electrical Wizard\, MorpethThe Rohan Ka
	nhai\, AshingtonThe Wallaw\, BlythJohn The Clerk\, Cramlington\nThe Fire S
	tation\, Whitley Bay\n\n
DTSTART;VALUE=DATE:20170224
DTEND;VALUE=DATE:20170306
END:VEVENT
END:VCALENDAR
