BEGIN:VCALENDAR
VERSION:2.0
PRODID:-//InvisionCommunity Events 4.7.23//EN
METHOD:PUBLISH
CALSCALE:GREGORIAN
REFRESH-INTERVAL:PT15M
X-PUBLISHED-TTL:PT15M
X-WR-CALNAME:What&#039;s On In Bedlington?
NAME:What&#039;s On In Bedlington?
BEGIN:VTIMEZONE
TZID:Europe/London
TZURL:http://tzurl.org/zoneinfo/Europe/London
X-LIC-LOCATION:Europe/London
BEGIN:DAYLIGHT
TZOFFSETFROM:+0000
TZOFFSETTO:+0100
TZNAME:BST
DTSTART:20170326T020000Z
RRULE:FREQ=YEARLY;BYMONTH=3;BYDAY=-1SU
END:DAYLIGHT
BEGIN:STANDARD
TZOFFSETFROM:+0100
TZOFFSETTO:+0000
TZNAME:GMT
DTSTART:20171029T020000Z
RRULE:FREQ=YEARLY;BYMONTH=10;BYDAY=-1SU
END:STANDARD
END:VTIMEZONE
BEGIN:VEVENT
SUMMARY:Jonny Boyle
DTSTAMP:20170223T145306Z
SEQUENCE:0
UID:153-1-04666e4d231bedf8aed44579027327af@bedlington.uk
ORGANIZER;CN="Andy Millne":info@bedlington.uk
DESCRIPTION:\n	Jonny Boyle has been making and playing music for the las
	t twenty years. A proficient musician\, Jonny plays guitar\, bass and bit
	 of drums... but his voice is something really special! Jonny has just fi
	nished recording and producing his latest album of self penned songs...'Ra
	dio' is available Now! This new record has been tipped as his finest eff
	ort yet\, bringing together Jonnys rock and soul influences in one smooth
	 and fresh sound.\n
DTSTART:20170225T210000Z
DTEND:20170225T230000Z
END:VEVENT
END:VCALENDAR
