BEGIN:VCALENDAR
VERSION:2.0
PRODID:-//InvisionCommunity Events 4.7.23//EN
METHOD:PUBLISH
CALSCALE:GREGORIAN
REFRESH-INTERVAL:PT15M
X-PUBLISHED-TTL:PT15M
X-WR-CALNAME:What&#039;s On In Bedlington?
NAME:What&#039;s On In Bedlington?
BEGIN:VTIMEZONE
TZID:Europe/London
TZURL:http://tzurl.org/zoneinfo/Europe/London
X-LIC-LOCATION:Europe/London
BEGIN:DAYLIGHT
TZOFFSETFROM:+0000
TZOFFSETTO:+0100
TZNAME:BST
DTSTART:20090329T020000Z
RRULE:FREQ=YEARLY;BYMONTH=3;BYDAY=-1SU
END:DAYLIGHT
BEGIN:STANDARD
TZOFFSETFROM:+0100
TZOFFSETTO:+0000
TZNAME:GMT
DTSTART:20091025T020000Z
RRULE:FREQ=YEARLY;BYMONTH=10;BYDAY=-1SU
END:STANDARD
END:VTIMEZONE
BEGIN:VEVENT
SUMMARY:Friends of Gallagher Park Fundraiser
DTSTAMP:20090814T150504Z
SEQUENCE:1
UID:19-1-04666e4d231bedf8aed44579027327af@bedlington.uk
ORGANIZER;CN="Andy Millne":info@bedlington.uk
DESCRIPTION:\nLocation - Market Place ClubDoors open at 7pm with the eve
	ningâ€™s entertainment starting from 8pm. The event is set to include
	 acoustic rock band Athenaâ€™s Child\, disco and dancing\, prize raff
	les and other entertainment. Tickets are available on the door at a cost o
	f Â£2.50 each\, with all proceeds going towards the Friends of Gallagher
	 Park\, in support of local community projects.\n
DTSTART:20090919T210000Z
END:VEVENT
END:VCALENDAR
