BEGIN:VCALENDAR
VERSION:2.0
PRODID:-//InvisionCommunity Events 4.7.23//EN
METHOD:PUBLISH
CALSCALE:GREGORIAN
REFRESH-INTERVAL:PT15M
X-PUBLISHED-TTL:PT15M
X-WR-CALNAME:What&#039;s On In Bedlington?
NAME:What&#039;s On In Bedlington?
BEGIN:VTIMEZONE
TZID:Europe/London
TZURL:http://tzurl.org/zoneinfo/Europe/London
X-LIC-LOCATION:Europe/London
BEGIN:DAYLIGHT
TZOFFSETFROM:+0000
TZOFFSETTO:+0100
TZNAME:BST
DTSTART:20100328T020000Z
RRULE:FREQ=YEARLY;BYMONTH=3;BYDAY=-1SU
END:DAYLIGHT
BEGIN:STANDARD
TZOFFSETFROM:+0100
TZOFFSETTO:+0000
TZNAME:GMT
DTSTART:20101031T020000Z
RRULE:FREQ=YEARLY;BYMONTH=10;BYDAY=-1SU
END:STANDARD
END:VTIMEZONE
BEGIN:VEVENT
SUMMARY:FOGP community awareness/fundraiser
DTSTAMP:20091120T135348Z
SEQUENCE:1
UID:38-1-04666e4d231bedf8aed44579027327af@bedlington.uk
ORGANIZER;CN="Andy Millne":info@bedlington.uk
DESCRIPTION:\nThis event is to raise funds to help Friends of Gallagher 
	Park their work in restoring community pride and cohesion to Bedlington. F
	eaturing local band Athena's Child and singer songwriter Jason Vare\, this
	 is an evening not to be missed for anyone who lives in Bedlington.\n
DTSTART:20100313T200000Z
END:VEVENT
END:VCALENDAR
