BEGIN:VCALENDAR
VERSION:2.0
PRODID:-//InvisionCommunity Events 4.7.23//EN
METHOD:PUBLISH
CALSCALE:GREGORIAN
REFRESH-INTERVAL:PT15M
X-PUBLISHED-TTL:PT15M
X-WR-CALNAME:What&#039;s On In Bedlington?
NAME:What&#039;s On In Bedlington?
BEGIN:VTIMEZONE
TZID:Europe/London
TZURL:http://tzurl.org/zoneinfo/Europe/London
X-LIC-LOCATION:Europe/London
BEGIN:DAYLIGHT
TZOFFSETFROM:+0000
TZOFFSETTO:+0100
TZNAME:BST
DTSTART:20170326T020000Z
RRULE:FREQ=YEARLY;BYMONTH=3;BYDAY=-1SU
END:DAYLIGHT
BEGIN:STANDARD
TZOFFSETFROM:+0100
TZOFFSETTO:+0000
TZNAME:GMT
DTSTART:20171029T020000Z
RRULE:FREQ=YEARLY;BYMONTH=10;BYDAY=-1SU
END:STANDARD
END:VTIMEZONE
BEGIN:VEVENT
SUMMARY:Punch Drunk Comedy Presents...
DTSTAMP:20170301T173250Z
SEQUENCE:0
UID:450-1-04666e4d231bedf8aed44579027327af@bedlington.uk
ORGANIZER;CN="Andy Millne":info@bedlington.uk
DESCRIPTION:\n\n	Following a ground-shaking opening to 2017\, Punch-Drun
	k Comedy returns with another trademark buffet of funny.  Guest host\, Jo
	nathon Mayor will rekindle his love affair with the Punch-Drunk Army after
	 becomming an instant hit when opening up the Reg. D Hunter run of gigs in
	 June last-year.  Joining Jonathon will be \"LIVE At The Apollo\" star an
	d a comic often touted as the best in the UK\, Zoe Lyons.  Completing a s
	tar-studded lineup will be \"I\, Daniel Blake\" (The Palm D'or winning Box
	 Office smash) star\, Dave Johns\, with a 3rd act still to be confirmed.\n
	\n\n\n	Zoe Lyons\n\n\n\n	Zoe took her first steps down the comedy path in 
	2003 after training as an actress at the Poor School in London. She went o
	n to win the Funny Women Competition in 2004 and her debut Edinburgh show 
	was nominated for the if.comedy newcomer award. In 2008 she won the Dave\,
	 Funniest Joke of The Fringe Award.\n\nDave Johns\n\n\n\n	Dave is one of t
	he most respected and best loved stand up comics working on the British co
	medy circuit.  A multi-award winning film actor\, accomplished stage acto
	r and improvisor who has appeared on the West End stage and most recently 
	played the lead role in Ken Loach's critically acclaimed film  'I\, Danie
	l Blake' which won the coveted Palme D'Or Award at the 2016 Cannes Film Fe
	stival. Dave has also written for stage and radio.\n\nJonathon Mayor (Host
	)\n\n\n\n	“Hilarious.  Charmingly vicious.  Not sure how he gets away 
	with it sometimes\, but audiences love him” - Jason Manford\n\nLive Musi
	c\n\n\n\n	Although the shows begin at 8pm\, It is highly recommended to ar
	rive at 7pm to enjoy our showcase of the best local emerging musical tal
	ent!\n\n\n\n	Tickets\n\n\n\n	Tickets priced at £10 are available from T
	icketSource.co.uk or by calling 07738663379\n\n
DTSTART:20170307T190000Z
DTEND:20170307T230000Z
END:VEVENT
END:VCALENDAR
