BEGIN:VCALENDAR
VERSION:2.0
PRODID:-//InvisionCommunity Events 4.7.23//EN
METHOD:PUBLISH
CALSCALE:GREGORIAN
REFRESH-INTERVAL:PT15M
X-PUBLISHED-TTL:PT15M
X-WR-CALNAME:What&#039;s On In Bedlington?
NAME:What&#039;s On In Bedlington?
BEGIN:VTIMEZONE
TZID:Europe/London
TZURL:http://tzurl.org/zoneinfo/Europe/London
X-LIC-LOCATION:Europe/London
BEGIN:DAYLIGHT
TZOFFSETFROM:+0000
TZOFFSETTO:+0100
TZNAME:BST
DTSTART:20170326T020000Z
RRULE:FREQ=YEARLY;BYMONTH=3;BYDAY=-1SU
END:DAYLIGHT
BEGIN:STANDARD
TZOFFSETFROM:+0100
TZOFFSETTO:+0000
TZNAME:GMT
DTSTART:20171029T020000Z
RRULE:FREQ=YEARLY;BYMONTH=10;BYDAY=-1SU
END:STANDARD
END:VTIMEZONE
BEGIN:VEVENT
SUMMARY:Bedlington Jobs Fair
DTSTAMP:20170302T155029Z
SEQUENCE:0
UID:451-1-04666e4d231bedf8aed44579027327af@bedlington.uk
ORGANIZER;CN="Andy Millne":info@bedlington.uk
DESCRIPTION:\n\n	Following the success of last years Jobs Fair\, West B
	edlington Town Council have teamed up with The Department of Work and Pens
	ions once more to hold another fair on Tuesday 7th March from 10am to 3pm
	. Last year's event attracted well over 300 job seekers and many reporte
	d a successful outcome to their day.\n\n\n\n	This year many more full and 
	part time jobs are on offer in fields as varied as care workers\, bus driv
	ers\, seasonal hospitality staff and retail workers.\n\n\n\n	As well as a 
	fantastic range of jobs there will also be agencies on hand to offer help
	 and advice to anyone with any type of special needs. Advice will also be
	 offered from Northumberland College (amongst others) in training and ret
	raining\, help with modern apprenticeships and administrative requirement
	s from HMRC.\n\n\n\n	So if you are looking for a job or want to change dir
	ection or even get back into the workplace get yourself along and see wha
	t’s on offer.\n\n
DTSTART:20170307T100000Z
DTEND:20170307T150000Z
END:VEVENT
END:VCALENDAR
