BEGIN:VCALENDAR
VERSION:2.0
PRODID:-//InvisionCommunity Events 4.7.23//EN
METHOD:PUBLISH
CALSCALE:GREGORIAN
REFRESH-INTERVAL:PT15M
X-PUBLISHED-TTL:PT15M
X-WR-CALNAME:What&#039;s On In Bedlington?
NAME:What&#039;s On In Bedlington?
BEGIN:VTIMEZONE
TZID:Europe/London
TZURL:http://tzurl.org/zoneinfo/Europe/London
X-LIC-LOCATION:Europe/London
BEGIN:DAYLIGHT
TZOFFSETFROM:+0000
TZOFFSETTO:+0100
TZNAME:BST
DTSTART:20170326T020000Z
RRULE:FREQ=YEARLY;BYMONTH=3;BYDAY=-1SU
END:DAYLIGHT
BEGIN:STANDARD
TZOFFSETFROM:+0100
TZOFFSETTO:+0000
TZNAME:GMT
DTSTART:20171029T020000Z
RRULE:FREQ=YEARLY;BYMONTH=10;BYDAY=-1SU
END:STANDARD
END:VTIMEZONE
BEGIN:VEVENT
SUMMARY:Arch Update and West Bedlington Town Council Meeting
DTSTAMP:20170303T101001Z
SEQUENCE:0
UID:452-1-04666e4d231bedf8aed44579027327af@bedlington.uk
ORGANIZER;CN="Andy Millne":info@bedlington.uk
DESCRIPTION:\n	West Bedlington Town Council have invited representatives
	 from Arch to give a talk and update on what is happening in Bedlington\, 
	two representatives will be in attendance.\n\n\n	The talk will take place 
	at Bedlington Community Centre at 6.00pm on Thursday 9th March before the 
	regular 6.30pm Town Council meeting.\n
DTSTART:20170309T180000Z
DTEND:20170309T193000Z
END:VEVENT
END:VCALENDAR
