BEGIN:VCALENDAR
VERSION:2.0
PRODID:-//InvisionCommunity Events 4.7.23//EN
METHOD:PUBLISH
CALSCALE:GREGORIAN
REFRESH-INTERVAL:PT15M
X-PUBLISHED-TTL:PT15M
X-WR-CALNAME:What&#039;s On In Bedlington?
NAME:What&#039;s On In Bedlington?
BEGIN:VTIMEZONE
TZID:Europe/London
TZURL:http://tzurl.org/zoneinfo/Europe/London
X-LIC-LOCATION:Europe/London
BEGIN:DAYLIGHT
TZOFFSETFROM:+0000
TZOFFSETTO:+0100
TZNAME:BST
DTSTART:20170326T020000Z
RRULE:FREQ=YEARLY;BYMONTH=3;BYDAY=-1SU
END:DAYLIGHT
BEGIN:STANDARD
TZOFFSETFROM:+0100
TZOFFSETTO:+0000
TZNAME:GMT
DTSTART:20171029T020000Z
RRULE:FREQ=YEARLY;BYMONTH=10;BYDAY=-1SU
END:STANDARD
END:VTIMEZONE
BEGIN:VEVENT
SUMMARY:Bedlington Forum Meeting
DTSTAMP:20170305T110205Z
SEQUENCE:0
UID:454-1-04666e4d231bedf8aed44579027327af@bedlington.uk
ORGANIZER;CN="Andy Millne":info@bedlington.uk
DESCRIPTION:\n\n	Membership of the Forum is open to:\n\n\n\n		Any indiv
	idual who has an interest in the town of Bedlington and surrounding area.
	\n	\n	\n		Any organisation operating in the town may send up to two repres
	entatives.\n	\n	\n		Northumberland County Council shall be invited to nomi
	nate up to three Elected Members to represent it – normally three of tho
	se representing the Bedlington Wards\n	\n
DTSTART:20170320T183000Z
DTEND:20170320T193000Z
END:VEVENT
END:VCALENDAR
