BEGIN:VCALENDAR
VERSION:2.0
PRODID:-//InvisionCommunity Events 4.7.23//EN
METHOD:PUBLISH
CALSCALE:GREGORIAN
REFRESH-INTERVAL:PT15M
X-PUBLISHED-TTL:PT15M
X-WR-CALNAME:What&#039;s On In Bedlington?
NAME:What&#039;s On In Bedlington?
BEGIN:VTIMEZONE
TZID:Europe/London
TZURL:http://tzurl.org/zoneinfo/Europe/London
X-LIC-LOCATION:Europe/London
BEGIN:DAYLIGHT
TZOFFSETFROM:+0000
TZOFFSETTO:+0100
TZNAME:BST
DTSTART:20170326T020000Z
RRULE:FREQ=YEARLY;BYMONTH=3;BYDAY=-1SU
END:DAYLIGHT
BEGIN:STANDARD
TZOFFSETFROM:+0100
TZOFFSETTO:+0000
TZNAME:GMT
DTSTART:20171029T020000Z
RRULE:FREQ=YEARLY;BYMONTH=10;BYDAY=-1SU
END:STANDARD
END:VTIMEZONE
BEGIN:VEVENT
SUMMARY:Dr & The Medics\, Tony Bengtsson\, Vox that Rox
DTSTAMP:20170321T145048Z
SEQUENCE:0
UID:457-1-04666e4d231bedf8aed44579027327af@bedlington.uk
ORGANIZER;CN="Andy Millne":info@bedlington.uk
DESCRIPTION:\n\n	Internationally reknowed artists Dr &amp\; The Medics b
	est known for their massive 1986 no 1 hit \"Spirit in the Sky\" which sold
	 over 23 million copies worldwide!  \n\n\n\n	Supporting the Medics will 
	be Tony Bengtsson with his unique Americana/Folk performance.\n\n\n\n	The 
	event will also host the first heats of Vox that Rox. A singing competitio
	n for Northumberland vocalists. Winners of the final round will secure a p
	lace at Northumberland Live in Gallagher Park 29th July.\n\n
DTSTART:20170414T193000Z
DTEND:20170414T230000Z
END:VEVENT
END:VCALENDAR
