BEGIN:VCALENDAR
VERSION:2.0
PRODID:-//InvisionCommunity Events 4.7.23//EN
METHOD:PUBLISH
CALSCALE:GREGORIAN
REFRESH-INTERVAL:PT15M
X-PUBLISHED-TTL:PT15M
X-WR-CALNAME:What&#039;s On In Bedlington?
NAME:What&#039;s On In Bedlington?
BEGIN:VTIMEZONE
TZID:Europe/London
TZURL:http://tzurl.org/zoneinfo/Europe/London
X-LIC-LOCATION:Europe/London
BEGIN:DAYLIGHT
TZOFFSETFROM:+0000
TZOFFSETTO:+0100
TZNAME:BST
DTSTART:20170326T020000Z
RRULE:FREQ=YEARLY;BYMONTH=3;BYDAY=-1SU
END:DAYLIGHT
BEGIN:STANDARD
TZOFFSETFROM:+0100
TZOFFSETTO:+0000
TZNAME:GMT
DTSTART:20171029T020000Z
RRULE:FREQ=YEARLY;BYMONTH=10;BYDAY=-1SU
END:STANDARD
END:VTIMEZONE
BEGIN:VEVENT
SUMMARY:Punch-Drunk Comedy
DTSTAMP:20170530T144731Z
SEQUENCE:0
UID:464-1-04666e4d231bedf8aed44579027327af@bedlington.uk
ORGANIZER;CN="Andy Millne":info@bedlington.uk
DESCRIPTION:\n\n	Tickets £10 (https://www.ticketsource.co.uk/boxoffice/
	select/aTITZtHjELUu)\n\n\n\n	PUNCH-DRUNK COMEDY presents... \n\n\n\n	? KA
	I HUMPHRIES (Host)\n\n\n\n	? ADAM BLOOM\n\n\n\n	? DANA ALEXANDER\n\n\n\n	?
	 ALLYSON JUNE SMITHPunch-Drunk Comedy is reaching it's all-time fever pitc
	h following an incredible start to 2017!  Join us during the first week i
	n June as we come to the boil - KAI HUMPHRIES again hosts an international
	 lineup of the best laughter money can buy\, headlined this time by ADAM B
	LOOM!  Read on for full lineup preview...\n\n\n\n	? ADAM BLOOM - Adam Blo
	om is one of Britain's most inventive comedians. He has performed sell-out
	 solo shows at the ‘96\, ’97\, ’98\, ’99\, '01\, '04 &amp\; '07 Ed
	inburgh Festivals as well as performing a sell-out tour of Britain. He has
	 also sold out theatres at festivals in Melbourne\, Sydney\, Auckland\, We
	llington &amp\; Cape Town. In July '13\, Adam made his fifth appearance at
	 ‘Just For Laughs’ in Montreal\, including being part of 2004 'Just Fo
	r Laughs Comedy Tour'\, playing to 42\,000 people in 17 cities across Cana
	da. He has also written three series of ‘The Problem with Adam Bloom’ 
	for BBC Radio 4.\n\n\n\n	TV Credits include...\n\n\n\n	- The Young Person'
	s Guide to Becoming a Rock Star (Channel 4)\n\n\n\n	- Never Mind The Buzz
	cocks (BBC2)\n\n\n\n	- Mock The Week (BBC2)\n\n\n\n	- The Stand-up Show
	 (BBC2)\n\n\n\n	- Edinburgh Nights (BBC2)\n\n\n\n	- Head On Comedy (BBC1
	)\n\n\n\n	- Comedy Lab (Channel 4)\n\n\n\n	- Comedy World Tour (Comedy C
	entral)\n\n\n\n	- The World Stands Up (Comedy Central)\n\n\n\n	- The Com
	edy Store (Comedy Central)\n\n\n\n	Discover more at www.adam-bloom.com\n\n
	\n\n	? DANA ALEXANDER - The only black female comedian on the circuit in C
	anada\, Dana's comedic style is both refreshing and irreverent\, drawing h
	er material from her diverse lifestyle\, her gay friends and her crazy Jam
	aican family. Adept\, charming and astute\, she is warmly funny with an im
	pishly sarcastic sense of humour. This is a lady not to be missed.-'Like a
	 gift from the Comedy Gods' (The Herald)-'An ebullient and instantly likab
	le presence on stage' (Arts Desk)\n\n\n\n	? ALLYSON JUNE SMITH - Since 200
	0\, Allyson June Smith has been tickling Canada’s comedy scene from the 
	moment she put down the chalk brush and picked up a mic.  Playing to pack
	ed rooms has become like another day in the classroomfor this former schoo
	l teacher.After working her way across Canada\, Allyson now has taken her 
	craft to the UK. Using her sassy blend of in-your-face stand-up and hilari
	ously insightful commentary\, she now works for major UK promoters and com
	edy clubs.It is her genuine and unique sense of humor\, combined with exce
	llent performance timing\, that has made audiences laugh.  This teacher-c
	ome-comic is ready to show international audiences why she is a sought-aft
	er fan favourite.\n\n\n\n	Discover more at www.allysonjunesmith.com\n\n\n\
	n	EVENT INFORMATION:\n\n\n\n	? LIVE MUSIC - Although our shows begin at 8p
	m\, we highly recommend arriving at 7pm and taking your seats early to enj
	oy our showcase of the best local emerging musical talent!\n\n\n\n	? FOODB
	ANK - We accept donations of non perishables and non-food items at all of 
	our events\, which we will be forwarding on to The Ashington Life Centre a
	t the end of event-week.\n\n\n\n	? 10% of all profits and fundraising from
	 prize raffles donated to local causes\n\n\n\n	NOTE - Lineups are subject 
	to change.\n\n\n\n	? PHOENIX TAXIS (01670) 540 222 ?  - The official ride
	 of the Punch-Drunk Army\n\n
DTSTART:20170606T190000Z
DTEND:20170606T213000Z
END:VEVENT
END:VCALENDAR
