BEGIN:VCALENDAR
VERSION:2.0
PRODID:-//InvisionCommunity Events 4.7.23//EN
METHOD:PUBLISH
CALSCALE:GREGORIAN
REFRESH-INTERVAL:PT15M
X-PUBLISHED-TTL:PT15M
X-WR-CALNAME:What&#039;s On In Bedlington?
NAME:What&#039;s On In Bedlington?
BEGIN:VTIMEZONE
TZID:Europe/London
TZURL:http://tzurl.org/zoneinfo/Europe/London
X-LIC-LOCATION:Europe/London
BEGIN:DAYLIGHT
TZOFFSETFROM:+0000
TZOFFSETTO:+0100
TZNAME:BST
DTSTART:20170326T020000Z
RRULE:FREQ=YEARLY;BYMONTH=3;BYDAY=-1SU
END:DAYLIGHT
BEGIN:STANDARD
TZOFFSETFROM:+0100
TZOFFSETTO:+0000
TZNAME:GMT
DTSTART:20171029T020000Z
RRULE:FREQ=YEARLY;BYMONTH=10;BYDAY=-1SU
END:STANDARD
END:VTIMEZONE
BEGIN:VEVENT
SUMMARY:BedFest 2017
DTSTAMP:20170602T063600Z
SEQUENCE:0
UID:466-1-04666e4d231bedf8aed44579027327af@bedlington.uk
ORGANIZER;CN="Andy Millne":info@bedlington.uk
DESCRIPTION:\n	Bedlington comes together once again for BedFest 2017. A 
	day of live music across the town. \n
DTSTART;VALUE=DATE:20170827
ATTENDEE;CN="Andy Millne";CUTYPE=INDIVIDUAL;PARTSTAT=ACCEPTE
	D:info@bedlington.uk
ATTENDEE;CN="Norma Maughan";CUTYPE=INDIVIDUAL;PARTSTAT=ACCEP
	TED:info@bedlington.uk
END:VEVENT
END:VCALENDAR
