BEGIN:VCALENDAR
VERSION:2.0
PRODID:-//InvisionCommunity Events 4.7.23//EN
METHOD:PUBLISH
CALSCALE:GREGORIAN
REFRESH-INTERVAL:PT15M
X-PUBLISHED-TTL:PT15M
X-WR-CALNAME:What&#039;s On In Bedlington?
NAME:What&#039;s On In Bedlington?
BEGIN:VTIMEZONE
TZID:Europe/London
TZURL:http://tzurl.org/zoneinfo/Europe/London
X-LIC-LOCATION:Europe/London
BEGIN:DAYLIGHT
TZOFFSETFROM:+0000
TZOFFSETTO:+0100
TZNAME:BST
DTSTART:20170326T020000Z
RRULE:FREQ=YEARLY;BYMONTH=3;BYDAY=-1SU
END:DAYLIGHT
BEGIN:STANDARD
TZOFFSETFROM:+0100
TZOFFSETTO:+0000
TZNAME:GMT
DTSTART:20171029T020000Z
RRULE:FREQ=YEARLY;BYMONTH=10;BYDAY=-1SU
END:STANDARD
END:VTIMEZONE
BEGIN:VEVENT
SUMMARY:Hells Bells
DTSTAMP:20170604T141116Z
SEQUENCE:0
UID:467-1-04666e4d231bedf8aed44579027327af@bedlington.uk
ORGANIZER;CN="Andy Millne":info@bedlington.uk
DESCRIPTION:\n\n	Hells Bells are one of Britain's leading AC/DC tribute 
	bands\, playing sell-out shows all over the UK and Europe. Known for their
	 high-energy performances and relentless touring\, Hells Bells are an act 
	not to be missed by fans of the original Australian rockers. See more inf
	o at hellsbells.info\n\n\n\n	Tickets £11\n\n\n\n	\n		\n	\n\n\n\n	 \n\n
DTSTART:20170805T180000Z
DTEND:20170805T210000Z
END:VEVENT
END:VCALENDAR
