BEGIN:VCALENDAR
VERSION:2.0
PRODID:-//InvisionCommunity Events 4.7.23//EN
METHOD:PUBLISH
CALSCALE:GREGORIAN
REFRESH-INTERVAL:PT15M
X-PUBLISHED-TTL:PT15M
X-WR-CALNAME:What&#039;s On In Bedlington?
NAME:What&#039;s On In Bedlington?
BEGIN:VTIMEZONE
TZID:Europe/London
TZURL:http://tzurl.org/zoneinfo/Europe/London
X-LIC-LOCATION:Europe/London
BEGIN:DAYLIGHT
TZOFFSETFROM:+0000
TZOFFSETTO:+0100
TZNAME:BST
DTSTART:20170326T020000Z
RRULE:FREQ=YEARLY;BYMONTH=3;BYDAY=-1SU
END:DAYLIGHT
BEGIN:STANDARD
TZOFFSETFROM:+0100
TZOFFSETTO:+0000
TZNAME:GMT
DTSTART:20171029T020000Z
RRULE:FREQ=YEARLY;BYMONTH=10;BYDAY=-1SU
END:STANDARD
END:VTIMEZONE
BEGIN:VEVENT
SUMMARY:7 Sins @ The Market Tavern
DTSTAMP:20170608T131954Z
SEQUENCE:0
UID:468-1-04666e4d231bedf8aed44579027327af@bedlington.uk
ORGANIZER;CN="Andy Millne":info@bedlington.uk
DESCRIPTION:\n\n	7Sins was born in 2006 and the band has built a solid r
	eputation for delivering dynamic\, engaging\, guitar orientated classic an
	d modern rock\, mixing well-loved pub rock anthems and iconic hits.Fronte
	d continously by Bill for almost 10 years\, our 2015 line-up is otherwise 
	all-new\, featuring Paul\, Colin and John\, previously the band behind \"T
	ony Liddle and The Electric Warriors\". \n\n\n\n	We've always been told b
	y landlords and music lovers we're \"one of the best bands we've seen here
	\"..... and we're glad to say this trend has continued with the new line-u
	p - judge for yourself\, of course.We don't aim to educate\, you should kn
	ow 90% of the tunes in the set\, and whilst there may be better players ou
	t there\, with a great frontman\, soaring vocals\, twin guitars and a soli
	d rhythm section\, you'll hear great tunes that help the beer go down play
	ed with passion\, expertise\, flair and a lot of smiles.\n\n\n\n	Our PA is
	 one of the best you'll hear on the pub and club circuit\, and we carry an
	 impressive lightshow.....\n\n\n\n	Let The Sin Begin.........\n\n\n\n	\n		
	\n	\n\n\n\n	 \n\n
DTSTART:20170609T190000Z
DTEND:20170609T220000Z
END:VEVENT
END:VCALENDAR
