BEGIN:VCALENDAR
VERSION:2.0
PRODID:-//InvisionCommunity Events 4.7.23//EN
METHOD:PUBLISH
CALSCALE:GREGORIAN
REFRESH-INTERVAL:PT15M
X-PUBLISHED-TTL:PT15M
X-WR-CALNAME:What&#039;s On In Bedlington?
NAME:What&#039;s On In Bedlington?
BEGIN:VTIMEZONE
TZID:Europe/London
TZURL:http://tzurl.org/zoneinfo/Europe/London
X-LIC-LOCATION:Europe/London
BEGIN:DAYLIGHT
TZOFFSETFROM:+0000
TZOFFSETTO:+0100
TZNAME:BST
DTSTART:20170326T020000Z
RRULE:FREQ=YEARLY;BYMONTH=3;BYDAY=-1SU
END:DAYLIGHT
BEGIN:STANDARD
TZOFFSETFROM:+0100
TZOFFSETTO:+0000
TZNAME:GMT
DTSTART:20171029T020000Z
RRULE:FREQ=YEARLY;BYMONTH=10;BYDAY=-1SU
END:STANDARD
END:VTIMEZONE
BEGIN:VEVENT
SUMMARY:Northumberland Miner's Picnic
DTSTAMP:20170610T073843Z
SEQUENCE:0
UID:469-1-04666e4d231bedf8aed44579027327af@bedlington.uk
ORGANIZER;CN="Andy Millne":info@bedlington.uk
DESCRIPTION:\n\n	Celebrate...The Northumberland Miners’ Picnic: a fun\
	, family day out rooted in local heritage reimagined with a contemporary t
	wist! \n\n\n\n	Enjoy... a fantastic programme of performance on our Bands
	tand Stage with Lindisfarne\, Eliot Smith Dance Company\, Brass Marras\, A
	listair Anderson &amp\; Friends and Rob Heron &amp\; the Teapad Orchestra.
	 \n\n\n\n	Discover... wonderful crafted goods\, delicious food\, drink an
	d more from some of the region’s best makers in the Picnic Market locate
	d in our historic Workshop Galleries. \n\n\n\n	Explore…Woodhorn Museum 
	&amp\; the historic colliery site. Get creative at our pop-up art workshop
	s and refuel at our café\, food stalls and beer tent! \n\n\n\n	Remembe
	r… the people\, places and industry that brought us the tradition of the
	 Northumberland Miners’ Picnic. The Miners' Memorial Service &amp\; Wrea
	th Laying will take place from 10.15am.\n\n\n\n	Event Programme: \n\n\n\n
		Please check this page or our website for event updates and to help plan 
	your visit: http://www.experiencewoodhorn.com/\n\n\n\n	10.00am – 5.00pm:
	 Picnic Food &amp\; Craft Market\, pop-up art workshops\, street theatre\,
	 facepainting and more!\n\n\n\n	10.15am: Miners’ Memorial Service &amp\;
	 Wreath Laying\n\n\n\n	Main Stage (Exact timings may be subject to change)
	\n\n\n\n	12.00pm: Lindisfarne\n\n\n\n	1.15pm: PITMAN (Eliot Smith Dance Co
	mpany)\n\n\n\n	2.00pm: Brass Marras\n\n\n\n	3.00pm: Alistair Anderson &amp
	\; Friends\n\n\n\n	4.00pm: Rob Heron &amp\; the Teapad Orchestra\n\n\n\n	B
	andstand Stage compered by Bread &amp\; Butter Theatre Company\n\n\n\n	Adm
	ission free\, donations welcomed. \n\n\n\n	Come prepared for all weathers
	 &amp\; feel free to bring camping chairs or a picnic blanket to help set 
	up a comfortable base for the day. \n\n\n\n	Getting to the Picnic:\n\n\n\
	n	It's going to be a busy day\, so if you can\, why not consider walking t
	o the event? \n\n\n\n	Main Car Parking: at the former ALCAN/Rio Tinto sit
	e with Park &amp\; Ride service. Please follow signs. £3.50 per car. Plea
	se allow up to 20 minutes for transfer.\n\n\n\n	Blue Badge Parking: availa
	ble at Woodhorn Museum £3.50 per car \n\n\n\n	Ashington Shuttle Bus: A f
	ree shuttle bus will run from Ashington Leisure Centre Car Park\, Lintonvi
	lle Terrace. First departure at 10am\, then every 30 minutes. Last bus lea
	ves Woodhorn 5.30pm.\n\n\n\n	OTHER INFORMATION:\n\n\n\n	Assistance dogs ar
	e welcome at Woodhorn\, but family pets are not permitted within the fence
	d museum area. Please leave pets at home.\n\n\n\n	Smoking &amp\; Vaping ar
	e not permitted within the museum site.\n\n
DTSTART:20170610T090000Z
DTEND:20170610T160000Z
END:VEVENT
END:VCALENDAR
