BEGIN:VCALENDAR
VERSION:2.0
PRODID:-//InvisionCommunity Events 4.7.23//EN
METHOD:PUBLISH
CALSCALE:GREGORIAN
REFRESH-INTERVAL:PT15M
X-PUBLISHED-TTL:PT15M
X-WR-CALNAME:What&#039;s On In Bedlington?
NAME:What&#039;s On In Bedlington?
BEGIN:VTIMEZONE
TZID:Europe/London
TZURL:http://tzurl.org/zoneinfo/Europe/London
X-LIC-LOCATION:Europe/London
BEGIN:DAYLIGHT
TZOFFSETFROM:+0000
TZOFFSETTO:+0100
TZNAME:BST
DTSTART:20090329T020000Z
RRULE:FREQ=YEARLY;BYMONTH=3;BYDAY=-1SU
END:DAYLIGHT
BEGIN:STANDARD
TZOFFSETFROM:+0100
TZOFFSETTO:+0000
TZNAME:GMT
DTSTART:20091025T020000Z
RRULE:FREQ=YEARLY;BYMONTH=10;BYDAY=-1SU
END:STANDARD
END:VTIMEZONE
BEGIN:VEVENT
SUMMARY:Bedlington Forum Meeting
DTSTAMP:20091125T134647Z
SEQUENCE:1
UID:47-1-04666e4d231bedf8aed44579027327af@bedlington.uk
ORGANIZER;CN="Andy Millne":info@bedlington.uk
DESCRIPTION:\nThe next Bedlington Forum meeting will be held in the Yout
	h Room of the community centre on Thursday 10th December at 6:30pm Meeting
	 to include:  Update on the bid for funding to cover the cost of a Feasibi
	lity Study for a community and sport facility in Bedlington.Whatâ€™s 
	on in the Market Place in the run up to Xmas. Progress at the Market Place
	.Planning hearing.Cycleway to Cramlington.Red Lion Pub\, planning applicat
	ion. \n  Minutes of previous meeting are available at \n
DTSTART:20091210T193000Z
END:VEVENT
END:VCALENDAR
