BEGIN:VCALENDAR
VERSION:2.0
PRODID:-//InvisionCommunity Events 4.7.23//EN
METHOD:PUBLISH
CALSCALE:GREGORIAN
REFRESH-INTERVAL:PT15M
X-PUBLISHED-TTL:PT15M
X-WR-CALNAME:What&#039;s On In Bedlington?
NAME:What&#039;s On In Bedlington?
BEGIN:VTIMEZONE
TZID:Europe/London
TZURL:http://tzurl.org/zoneinfo/Europe/London
X-LIC-LOCATION:Europe/London
BEGIN:DAYLIGHT
TZOFFSETFROM:+0000
TZOFFSETTO:+0100
TZNAME:BST
DTSTART:20170326T020000Z
RRULE:FREQ=YEARLY;BYMONTH=3;BYDAY=-1SU
END:DAYLIGHT
BEGIN:STANDARD
TZOFFSETFROM:+0100
TZOFFSETTO:+0000
TZNAME:GMT
DTSTART:20171029T020000Z
RRULE:FREQ=YEARLY;BYMONTH=10;BYDAY=-1SU
END:STANDARD
END:VTIMEZONE
BEGIN:VEVENT
SUMMARY:Twinkle Toes Social Dance
DTSTAMP:20170621T135802Z
SEQUENCE:0
UID:480-1-04666e4d231bedf8aed44579027327af@bedlington.uk
ORGANIZER;CN="Andy Millne":info@bedlington.uk
DESCRIPTION:\n\n	Twinkle Toes Social Dance is a friendly and open event 
	for anyone with an interest in dancing. It is not a class\, nor is it a le
	sson\; it is a place for people to come together and share their skills an
	d experience. Perhaps tonight you will learn how to foxtrot... or perhaps 
	tonight you will show someone how to salsa!\n\n\n\n	There is no dress code
	\, simply wear something comfortable that you can move in. You don't need 
	to bring a partner either\, but of course the more the merrier.\n\n\n\n	En
	try is £3.50\, which includes participation in our weekly bingo game\, wi
	th a great prize to be won every week.We have a great venue which is fully
	 accessible\, a very reasonably priced licensed bar\, and it's a great way
	 to stay active and make new friends.\n\n
DTSTART:20170621T183000Z
DTEND:20170621T200000Z
RRULE:FREQ=WEEKLY;INTERVAL=1;BYDAY=WE
END:VEVENT
END:VCALENDAR
