BEGIN:VCALENDAR
VERSION:2.0
PRODID:-//InvisionCommunity Events 4.7.23//EN
METHOD:PUBLISH
CALSCALE:GREGORIAN
REFRESH-INTERVAL:PT15M
X-PUBLISHED-TTL:PT15M
X-WR-CALNAME:What&#039;s On In Bedlington?
NAME:What&#039;s On In Bedlington?
BEGIN:VTIMEZONE
TZID:Europe/London
TZURL:http://tzurl.org/zoneinfo/Europe/London
X-LIC-LOCATION:Europe/London
BEGIN:DAYLIGHT
TZOFFSETFROM:+0000
TZOFFSETTO:+0100
TZNAME:BST
DTSTART:20170326T020000Z
RRULE:FREQ=YEARLY;BYMONTH=3;BYDAY=-1SU
END:DAYLIGHT
BEGIN:STANDARD
TZOFFSETFROM:+0100
TZOFFSETTO:+0000
TZNAME:GMT
DTSTART:20171029T020000Z
RRULE:FREQ=YEARLY;BYMONTH=10;BYDAY=-1SU
END:STANDARD
END:VTIMEZONE
BEGIN:VEVENT
SUMMARY:Let's Talk Taboo - Domestic Abuse Support
DTSTAMP:20170623T081224Z
SEQUENCE:0
UID:481-1-04666e4d231bedf8aed44579027327af@bedlington.uk
ORGANIZER;CN="Andy Millne":info@bedlington.uk
DESCRIPTION:\n\n	Let’s Talk Taboo!…so we can focus on Prevention\n\n
	\n\n	Target Audience:\n\n\n\n	Anyone who works with or has a responsibilit
	y for protecting children and young people. This includes parents and guar
	dians\, volunteers in community groups\, safeguarding professionals\, etc.
	\n\n\n\n	Registration: 9:30 – 9.55 am \n\n\n\n	Agenda for the Day \n\n
	\n\n	10am Short introduction to Day – (including Video Presentation from
	 Dame Vera Baird)\n\n\n\n	10.10 am –Andy Woodward - the first former pre
	mier footballer to disclose the football abuse scandal now EAUK Director o
	f Sport\n\n\n\n	10.25 am - Marilyn Hawes\, Founder and CEO of Enough Abuse
	 UK\n\n\n\n	1:00 Short Refreshment Break \n\n\n\n	1:30 pm – Raw Produc
	tion Film Control (90 seconds) followed by Introduction to CSE Prevention
	 in Northumberland - Patrick Boyle\n\n\n\n	1.40 pm - First Time Free Preve
	ntion Drama &amp\; Workshop Open Clasp Theatre Company \n\n\n\n	2.30 pm
	 – Partnership Project NDAS\, Police\, Health and Education – Justine 
	Clephane \n\n\n\n	2.40 pm – West End Women &amp\; Girls Peer Educators
	 \n\n\n\n	2.50 pm – Little Big Butterfly – Young Women’s Film Acade
	my Project\n\n\n\n	3.00 – 3.30 pm – Close and Evaluation\n\n\n\n	About
	 NDAS\n\n\n\n	NDAS is a registered charity that provides comprehensive sup
	port to those experiencing or affected by domestic violence or abuse. Wome
	n\, men\, young people\, older people\, people with disabilities\, gay\, s
	traight\, bi\, trans\; we don't discriminate about who you are\, we try to
	 help anyone affected by domestic violence or abuse.\n\n\n\n	Our main aim 
	is to protect and empower all service users by providing flexible and prof
	essional support throughout Northumberland.\n\n
DTSTART:20170629T083000Z
DTEND:20170629T143000Z
END:VEVENT
END:VCALENDAR
