BEGIN:VCALENDAR
VERSION:2.0
PRODID:-//InvisionCommunity Events 4.7.23//EN
METHOD:PUBLISH
CALSCALE:GREGORIAN
REFRESH-INTERVAL:PT15M
X-PUBLISHED-TTL:PT15M
X-WR-CALNAME:What&#039;s On In Bedlington?
NAME:What&#039;s On In Bedlington?
BEGIN:VTIMEZONE
TZID:Europe/London
TZURL:http://tzurl.org/zoneinfo/Europe/London
X-LIC-LOCATION:Europe/London
BEGIN:DAYLIGHT
TZOFFSETFROM:+0000
TZOFFSETTO:+0100
TZNAME:BST
DTSTART:20170326T020000Z
RRULE:FREQ=YEARLY;BYMONTH=3;BYDAY=-1SU
END:DAYLIGHT
BEGIN:STANDARD
TZOFFSETFROM:+0100
TZOFFSETTO:+0000
TZNAME:GMT
DTSTART:20171029T020000Z
RRULE:FREQ=YEARLY;BYMONTH=10;BYDAY=-1SU
END:STANDARD
END:VTIMEZONE
BEGIN:VEVENT
SUMMARY:Pamper Party at The Old Police Station Bedlington
DTSTAMP:20170725T131026Z
SEQUENCE:0
UID:513-1-04666e4d231bedf8aed44579027327af@bedlington.uk
ORGANIZER;CN="Heather":info@bedlington.uk
DESCRIPTION:\n\n	Thank you all so much for your suggestions and requests
	 for a 'Pamper Evening' at The Old Police Station Bedlington. We are delig
	hted to announce that the first of many will take place on Tuesday 15th Au
	gust 6pm - 8pm.\n\n\n\n	Treat yourself for some time to relax\, indulge in
	 some 'you time' alone or get together with a group of friends and join A
	urora Natural Therapies\, No Hands Massage - Northumberland and White F
	eather Reiki on Tuesday 15th August 6pm - 8pm.\n\n\n\n	As part of the eve
	nt\, relax and chat with like minded people while sampling some delicious 
	cakes and a complimentary glass of prosecco\, you will receive 2 x 20 minu
	te holistic treatments and either a card reading or Auroa Orb reading as p
	art of the event. \n\n\n\n	You will also receive a distance Reiki Healing 
	sent to you at a time of your chosing after the event.\n\n\n\n	It's just 
	£20 a ticket and you will recieve £85 worth of treaments. Places are lim
	ited to just 8 people\, because of the interest we have recieved we are as
	king that places are booked and paid for in advance. Thank you.\n\n\n\n	We
	 look forward to seeing you! If you have any questions please feel free to
	 message the page\, to book your place please message White Feather Reiki
	. Thank you. xxx\n\n
DTSTART:20170815T170000Z
DTEND:20170815T190000Z
END:VEVENT
END:VCALENDAR
