BEGIN:VCALENDAR
VERSION:2.0
PRODID:-//InvisionCommunity Events 4.7.23//EN
METHOD:PUBLISH
CALSCALE:GREGORIAN
REFRESH-INTERVAL:PT15M
X-PUBLISHED-TTL:PT15M
X-WR-CALNAME:What&#039;s On In Bedlington?
NAME:What&#039;s On In Bedlington?
BEGIN:VTIMEZONE
TZID:Europe/London
TZURL:http://tzurl.org/zoneinfo/Europe/London
X-LIC-LOCATION:Europe/London
BEGIN:DAYLIGHT
TZOFFSETFROM:+0000
TZOFFSETTO:+0100
TZNAME:BST
DTSTART:20170326T020000Z
RRULE:FREQ=YEARLY;BYMONTH=3;BYDAY=-1SU
END:DAYLIGHT
BEGIN:STANDARD
TZOFFSETFROM:+0100
TZOFFSETTO:+0000
TZNAME:GMT
DTSTART:20171029T020000Z
RRULE:FREQ=YEARLY;BYMONTH=10;BYDAY=-1SU
END:STANDARD
END:VTIMEZONE
BEGIN:VEVENT
SUMMARY:Bedlington Carnival
DTSTAMP:20170801T151947Z
SEQUENCE:0
UID:521-1-04666e4d231bedf8aed44579027327af@bedlington.uk
ORGANIZER;CN="Andy Millne":info@bedlington.uk
DESCRIPTION:\n\n	A Fun Filled Day For All The Family!! Including the fo
	llowing:\n\n\n\n\n		A Fun Fair\n	\n	\n		Craft Stalls\n	\n	\n		Food Stalls\
	n	\n	\n		Free Balloon Modelling\n	\n	\n		Face Painting\n	\n	\n		Full Live 
	Entertainment hosted by Paul Grant and staring a Little Mix Tribute Band!!
	! \n	\n	\n		Visits from Princesses and Super Hero's\n	\n\n\n	FREE ENTRY N
	OT TO BE MISSED\n\n\n\n	\n\n
DTSTART:20170806T100000Z
DTEND:20170806T200000Z
END:VEVENT
END:VCALENDAR
