BEGIN:VCALENDAR
VERSION:2.0
PRODID:-//InvisionCommunity Events 4.7.23//EN
METHOD:PUBLISH
CALSCALE:GREGORIAN
REFRESH-INTERVAL:PT15M
X-PUBLISHED-TTL:PT15M
X-WR-CALNAME:What&#039;s On In Bedlington?
NAME:What&#039;s On In Bedlington?
BEGIN:VTIMEZONE
TZID:Europe/London
TZURL:http://tzurl.org/zoneinfo/Europe/London
X-LIC-LOCATION:Europe/London
BEGIN:DAYLIGHT
TZOFFSETFROM:+0000
TZOFFSETTO:+0100
TZNAME:BST
DTSTART:20180325T020000Z
RRULE:FREQ=YEARLY;BYMONTH=3;BYDAY=-1SU
END:DAYLIGHT
BEGIN:STANDARD
TZOFFSETFROM:+0100
TZOFFSETTO:+0000
TZNAME:GMT
DTSTART:20181028T020000Z
RRULE:FREQ=YEARLY;BYMONTH=10;BYDAY=-1SU
END:STANDARD
END:VTIMEZONE
BEGIN:VEVENT
SUMMARY:Bedlington Live
DTSTAMP:20180602T115226Z
SEQUENCE:0
UID:625-1-04666e4d231bedf8aed44579027327af@bedlington.uk
ORGANIZER;CN="Alan Edgar (Eggy1948)":info@bedlington.uk
DESCRIPTION:\n\n	Details  - Bedlington Front Street\n	\n		NE22 5 Bedli
	ngton\n	\n\n	\n		 \n	\n\n\n\n	\n		\n			\n				A big day out for all the fa
	mily\n\n				Live music\, street theatre\, circus\, fairground rides\, stre
	et food\, arts and craft market\, arts activities and circus workshops.\n\
	n				Joining us are The Baghdaddies\, Northern Monkey Brass Band\, King Be
	e Funk\, Dave Ferra All Stars\, Shipcote and friends\, Grace Under Pressur
	e\, Drumdin\, Meze Mundo\, Sista Soul.\n\n				On Board Arts 'Raiju'\, Fair
	ly Famous Family 'Kitsch Kafe' and 'Liver Cottage' plus the splendid Lets 
	Circus outdoor circus ring.\n			\n\n			\n				 \n			\n\n			\n				 \n			\n
			\n	\n\n\n
DTSTART:20180825T090000Z
DTEND:20180825T190000Z
END:VEVENT
END:VCALENDAR
