BEGIN:VCALENDAR
VERSION:2.0
PRODID:-//InvisionCommunity Events 4.7.23//EN
METHOD:PUBLISH
CALSCALE:GREGORIAN
REFRESH-INTERVAL:PT15M
X-PUBLISHED-TTL:PT15M
X-WR-CALNAME:What&#039;s On In Bedlington?
NAME:What&#039;s On In Bedlington?
BEGIN:VTIMEZONE
TZID:Europe/London
TZURL:http://tzurl.org/zoneinfo/Europe/London
X-LIC-LOCATION:Europe/London
BEGIN:DAYLIGHT
TZOFFSETFROM:+0000
TZOFFSETTO:+0100
TZNAME:BST
DTSTART:20190331T020000Z
RRULE:FREQ=YEARLY;BYMONTH=3;BYDAY=-1SU
END:DAYLIGHT
BEGIN:STANDARD
TZOFFSETFROM:+0100
TZOFFSETTO:+0000
TZNAME:GMT
DTSTART:20191027T020000Z
RRULE:FREQ=YEARLY;BYMONTH=10;BYDAY=-1SU
END:STANDARD
END:VTIMEZONE
BEGIN:VEVENT
SUMMARY:Ageing Well - Summer Roadshow
DTSTAMP:20190520T181200Z
SEQUENCE:0
UID:641-1-04666e4d231bedf8aed44579027327af@bedlington.uk
ORGANIZER;CN="Alan Edgar (Eggy1948)":info@bedlington.uk
DESCRIPTION:\n\n	Comment from Keith Dalton on the Bygone Bedlington Face
	book group :- '\n\n\n\n	This is mainly aimed at the elderly in the communi
	ty\, please come along it is all free'\n\n\n
DTSTART:20190619T090000Z
DTEND:20190619T140000Z
END:VEVENT
END:VCALENDAR
