BEGIN:VCALENDAR
VERSION:2.0
PRODID:-//InvisionCommunity Events 4.7.23//EN
METHOD:PUBLISH
CALSCALE:GREGORIAN
REFRESH-INTERVAL:PT15M
X-PUBLISHED-TTL:PT15M
X-WR-CALNAME:What&#039;s On In Bedlington?
NAME:What&#039;s On In Bedlington?
BEGIN:VTIMEZONE
TZID:Europe/London
TZURL:http://tzurl.org/zoneinfo/Europe/London
X-LIC-LOCATION:Europe/London
BEGIN:DAYLIGHT
TZOFFSETFROM:+0000
TZOFFSETTO:+0100
TZNAME:BST
DTSTART:20190331T020000Z
RRULE:FREQ=YEARLY;BYMONTH=3;BYDAY=-1SU
END:DAYLIGHT
BEGIN:STANDARD
TZOFFSETFROM:+0100
TZOFFSETTO:+0000
TZNAME:GMT
DTSTART:20191027T020000Z
RRULE:FREQ=YEARLY;BYMONTH=10;BYDAY=-1SU
END:STANDARD
END:VTIMEZONE
BEGIN:VEVENT
SUMMARY:Bingo at Platform 1
DTSTAMP:20190804T131747Z
SEQUENCE:0
UID:646-1-04666e4d231bedf8aed44579027327af@bedlington.uk
ORGANIZER;CN="Alan Edgar (Eggy1948)":info@bedlington.uk
DESCRIPTION:\n\n	Info from  \n\n\n\n	Stacey Chisholm Price  = Cambois
	 Facebook group = Fancy a game of bingo and a nice hot drink pop along to
	 the buffet car cafe at Platform 1 tomorrow morning at 10.30\, £3 for 6 o
	r £1.50 for 3 -  all money paid in is paid out\n\n\n
DTSTART:20190808T093000Z
DTEND:20190807T230000Z
RRULE:FREQ=DAILY;INTERVAL=7
END:VEVENT
END:VCALENDAR
