BEGIN:VCALENDAR
VERSION:2.0
PRODID:-//InvisionCommunity Events 4.7.23//EN
METHOD:PUBLISH
CALSCALE:GREGORIAN
REFRESH-INTERVAL:PT15M
X-PUBLISHED-TTL:PT15M
X-WR-CALNAME:What&#039;s On In Bedlington?
NAME:What&#039;s On In Bedlington?
BEGIN:VTIMEZONE
TZID:Europe/London
TZURL:http://tzurl.org/zoneinfo/Europe/London
X-LIC-LOCATION:Europe/London
BEGIN:DAYLIGHT
TZOFFSETFROM:+0000
TZOFFSETTO:+0100
TZNAME:BST
DTSTART:20220327T020000Z
RRULE:FREQ=YEARLY;BYMONTH=3;BYDAY=-1SU
END:DAYLIGHT
BEGIN:STANDARD
TZOFFSETFROM:+0100
TZOFFSETTO:+0000
TZNAME:GMT
DTSTART:20221030T020000Z
RRULE:FREQ=YEARLY;BYMONTH=10;BYDAY=-1SU
END:STANDARD
END:VTIMEZONE
BEGIN:VEVENT
SUMMARY:Storm Chasre at Platform 1
DTSTAMP:20220310T141408Z
SEQUENCE:0
UID:670-1-04666e4d231bedf8aed44579027327af@bedlington.uk
ORGANIZER;CN="Alan Edgar (Eggy1948)":info@bedlington.uk
DESCRIPTION:\n	\n\n\n\n	https://l.facebook.com/l.php?u=https%3A%2F%2Ffb.
	watch%2FbFK4nuFLB-%2F%3Ffbclid%3DIwAR1n_WG-Q4se04KVRurYe0v29uptp6oirJbi_DE
	0cLvWOyAO88m-ueHJjnI&amp\;h=AT1dat6TRcG6IfFIQtz98CL-HZaN5Bn7zWElEYe1sV8SX4
	5L9kOPT-jobuy4QcgQBShA2AFRtfPk6ogkkZvE0ISYnuBqi-rYffq-ssCJmv_xRimtfI-YAcsK
	l6CJcC-MAg1FNOo2&amp\;__tn__=-UK-R&amp\;c[0]=AT11uH9SntsVqpglpze4dO37VCWQv
	wC0gRw549PSPfku6MyzMDveLi5b6U8bzXlRrbHO77hLN7WTisNGfrTZ3PHutwcMc_LuZ7nFGuD
	tTf-Bnjk9I7LQ4a5K9D69z5TM-xHxUdPEkgn36RBq0MixlPVIc-EeKuVtXzg\n\n
DTSTART:20220325T190000Z
DTEND:20220325T230000Z
END:VEVENT
END:VCALENDAR
