BEGIN:VCALENDAR
VERSION:2.0
PRODID:-//InvisionCommunity Events 4.7.23//EN
METHOD:PUBLISH
CALSCALE:GREGORIAN
REFRESH-INTERVAL:PT15M
X-PUBLISHED-TTL:PT15M
X-WR-CALNAME:What&#039;s On In Bedlington?
NAME:What&#039;s On In Bedlington?
BEGIN:VTIMEZONE
TZID:Europe/London
TZURL:http://tzurl.org/zoneinfo/Europe/London
X-LIC-LOCATION:Europe/London
BEGIN:DAYLIGHT
TZOFFSETFROM:+0000
TZOFFSETTO:+0100
TZNAME:BST
DTSTART:20220327T020000Z
RRULE:FREQ=YEARLY;BYMONTH=3;BYDAY=-1SU
END:DAYLIGHT
BEGIN:STANDARD
TZOFFSETFROM:+0100
TZOFFSETTO:+0000
TZNAME:GMT
DTSTART:20221030T020000Z
RRULE:FREQ=YEARLY;BYMONTH=10;BYDAY=-1SU
END:STANDARD
END:VTIMEZONE
BEGIN:VEVENT
SUMMARY:A crash-course in consistency with Amy Purdie… brand explo
	rer
DTSTAMP:20220807T094129Z
SEQUENCE:0
UID:697-1-04666e4d231bedf8aed44579027327af@bedlington.uk
ORGANIZER;CN="Andy Millne":info@bedlington.uk
DESCRIPTION:\n	Join us for the first *free* networking event at CO22 in 
	Bedlington.\n\n\n\n	All businesses from Bedlington and the surrounding are
	a are welcome.\n\n\n\n	Guest speaker: Since 2007\, Amy has been helping bu
	sinesses like yours create pioneering brands to be proud of. \n\n\n\n	Gai
	n clarity on your brand\, promote your business\, learn about others and d
	iscover the new space for coworking.\n\n\n\n	6:30 - Drinks reception.\n\n	
	7:00 - Guest speaker.\n\n	7:30 - Relaxed networking.\n\n\n\n	Drinks and ap
	petisers will be provided and all members are very welcoming.\n\n\n\n	Plea
	se mark yourself as going using the links on this page and share with othe
	rs. \n\n\n\n	For any questions or more info please email info@co22.uk or 
	call in to the office.\n\n
DTSTART:20220818T173000Z
DTEND:20220818T193000Z
END:VEVENT
END:VCALENDAR
