BEGIN:VCALENDAR
VERSION:2.0
PRODID:-//InvisionCommunity Events 4.7.23//EN
METHOD:PUBLISH
CALSCALE:GREGORIAN
REFRESH-INTERVAL:PT15M
X-PUBLISHED-TTL:PT15M
X-WR-CALNAME:What&#039;s On In Bedlington?
NAME:What&#039;s On In Bedlington?
BEGIN:VTIMEZONE
TZID:Europe/London
TZURL:http://tzurl.org/zoneinfo/Europe/London
X-LIC-LOCATION:Europe/London
BEGIN:DAYLIGHT
TZOFFSETFROM:+0000
TZOFFSETTO:+0100
TZNAME:BST
DTSTART:20250330T020000Z
RRULE:FREQ=YEARLY;BYMONTH=3;BYDAY=-1SU
END:DAYLIGHT
BEGIN:STANDARD
TZOFFSETFROM:+0100
TZOFFSETTO:+0000
TZNAME:GMT
DTSTART:20251026T020000Z
RRULE:FREQ=YEARLY;BYMONTH=10;BYDAY=-1SU
END:STANDARD
END:VTIMEZONE
BEGIN:VEVENT
SUMMARY:Platform 1 - FizzyFish
DTSTAMP:20250319T193129Z
SEQUENCE:0
UID:782-1-04666e4d231bedf8aed44579027327af@bedlington.uk
ORGANIZER;CN="Alan Edgar (Eggy1948)":info@bedlington.uk
DESCRIPTION:\n	\n\n\n\n	\n		\n			\n				\n					\n						Platform 1\n					\
	n				\n			\n\n			\n				\n					pnodsreotS7a46m h2 ti61428h61713arg211lM0m
	:a01gmh21cl1uf ufc  · \n				\n			\n		\n	\n\n	\n		\n			\n				\n					 
	\n				\n			\n		\n	\n\n\n\n	 Fizzyfish return to Platform 1 on Friday 28th
	 March! \n\n	\n\n	Fantastic night guaranteed!! \n\n	\n\n	 We are now al
	so trialing the use of eventbrite to purchase tickets! Link below (please 
	be mindful that service charge will be applied): https://www.eventbrite.c
	o.uk/.../fizzy-fish-friday-28th...\n\n
DTSTART:20250328T190000Z
DTEND:20250328T230000Z
END:VEVENT
END:VCALENDAR
