BEGIN:VCALENDAR
VERSION:2.0
PRODID:-//InvisionCommunity Events 4.7.23//EN
METHOD:PUBLISH
CALSCALE:GREGORIAN
REFRESH-INTERVAL:PT15M
X-PUBLISHED-TTL:PT15M
X-WR-CALNAME:What&#039;s On In Bedlington?
NAME:What&#039;s On In Bedlington?
BEGIN:VTIMEZONE
TZID:Europe/London
TZURL:http://tzurl.org/zoneinfo/Europe/London
X-LIC-LOCATION:Europe/London
BEGIN:DAYLIGHT
TZOFFSETFROM:+0000
TZOFFSETTO:+0100
TZNAME:BST
DTSTART:20100328T020000Z
RRULE:FREQ=YEARLY;BYMONTH=3;BYDAY=-1SU
END:DAYLIGHT
BEGIN:STANDARD
TZOFFSETFROM:+0100
TZOFFSETTO:+0000
TZNAME:GMT
DTSTART:20101031T020000Z
RRULE:FREQ=YEARLY;BYMONTH=10;BYDAY=-1SU
END:STANDARD
END:VTIMEZONE
BEGIN:VEVENT
SUMMARY:Tornado Steam Train Passing Though Bedlington
DTSTAMP:20100423T103439Z
SEQUENCE:1
UID:81-1-04666e4d231bedf8aed44579027327af@bedlington.uk
ORGANIZER;CN="Andy Millne":info@bedlington.uk
DESCRIPTION:\nPosted by OwenLNER A1 Class 4-6-2 no 60163 Tornado is book
	ed to pass though Bedlington this satRoute and times are as follows  Newca
	stle d 13.31  Benton N Jc 13.39  Newsham 14.01  Bedlington N Jc 14.10  Mor
	peth 14.23  Heaton S Jc 14.41  Newcastle d 14.47 Please Remember things ca
	n change or there can be problems. but its booked for then.....Enjoy\n
DTSTART:20100424T161000Z
END:VEVENT
END:VCALENDAR
