BEGIN:VCALENDAR
VERSION:2.0
PRODID:-//InvisionCommunity Events 4.7.23//EN
METHOD:PUBLISH
CALSCALE:GREGORIAN
REFRESH-INTERVAL:PT15M
X-PUBLISHED-TTL:PT15M
X-WR-CALNAME:What&#039;s On In Bedlington?
NAME:What&#039;s On In Bedlington?
BEGIN:VTIMEZONE
TZID:Europe/London
TZURL:http://tzurl.org/zoneinfo/Europe/London
X-LIC-LOCATION:Europe/London
BEGIN:DAYLIGHT
TZOFFSETFROM:+0000
TZOFFSETTO:+0100
TZNAME:BST
DTSTART:20100328T020000Z
RRULE:FREQ=YEARLY;BYMONTH=3;BYDAY=-1SU
END:DAYLIGHT
BEGIN:STANDARD
TZOFFSETFROM:+0100
TZOFFSETTO:+0000
TZNAME:GMT
DTSTART:20101031T020000Z
RRULE:FREQ=YEARLY;BYMONTH=10;BYDAY=-1SU
END:STANDARD
END:VTIMEZONE
BEGIN:VEVENT
SUMMARY:Bedlington Terriers Supporters Meeting
DTSTAMP:20101101T114134Z
SEQUENCE:1
UID:90-1-04666e4d231bedf8aed44579027327af@bedlington.uk
ORGANIZER;CN="terrier terry":info@bedlington.uk
DESCRIPTION:\nBedlington Terriers will be holding there monthly meeting\
	, to up date the supporters and community as what is happening at the club
	Starts at 7:30pm in the ClubhouseAll are welcome\n
DTSTART:20101125T083000Z
END:VEVENT
END:VCALENDAR
